BEGIN:VCALENDAR
VERSION:2.0
PRODID:-//cornerstonecollaboration.org//NONSGML kigkonsult.se iCalcreator 2
 .30.10//
CALSCALE:GREGORIAN
METHOD:PUBLISH
UID:4b53507d-6cbc-4f01-9ad7-8616ebc343a8
X-WR-CALDESC:
X-WR-RELCALID:a7c2b2d96beb215eaf1ed717e8c266e2
X-WR-TIMEZONE:America/New_York
BEGIN:VTIMEZONE
TZID:America/New_York
BEGIN:STANDARD
TZNAME:EST
DTSTART:20231105T020000
TZOFFSETFROM:-0400
TZOFFSETTO:-0500
RDATE:20241103T020000
END:STANDARD
BEGIN:DAYLIGHT
TZNAME:EDT
DTSTART:20240310T020000
TZOFFSETFROM:-0500
TZOFFSETTO:-0400
RDATE:20250309T020000
END:DAYLIGHT
END:VTIMEZONE
BEGIN:VEVENT
UID:8fbe9a23-ccd6-44be-8100-c583dbada402
DTSTAMP:20260421T182420Z
DESCRIPTION:
DTSTART;TZID=America/New_York:20240411T060000
DTEND;TZID=America/New_York:20240413T060001
LOCATION:200 Lakeside Ave East\, Cleveland\, OH 44114 US
SUMMARY:International Congress on Integrative Medicine & Health
END:VEVENT
END:VCALENDAR
