BEGIN:VCALENDAR
VERSION:2.0
PRODID:-//cornerstonecollaboration.org//NONSGML kigkonsult.se iCalcreator 2
 .30.10//
CALSCALE:GREGORIAN
METHOD:PUBLISH
UID:cb709402-6c1f-4192-877c-ac955234b1dc
X-WR-CALDESC:
X-WR-RELCALID:5b9ad60ac21eb79289a5b3873ecf6882
X-WR-TIMEZONE:America/Los_Angeles
BEGIN:VTIMEZONE
TZID:America/Los_Angeles
BEGIN:STANDARD
TZNAME:PST
DTSTART:20231105T020000
TZOFFSETFROM:-0700
TZOFFSETTO:-0800
RDATE:20241103T020000
RDATE:20251102T020000
END:STANDARD
BEGIN:DAYLIGHT
TZNAME:PDT
DTSTART:20240310T020000
TZOFFSETFROM:-0800
TZOFFSETTO:-0700
RDATE:20250309T020000
END:DAYLIGHT
END:VTIMEZONE
BEGIN:VEVENT
UID:7c7c561b-c33e-4659-b78a-5d81376a140f
DTSTAMP:20260421T152032Z
DESCRIPTION:
DTSTART;TZID=America/Los_Angeles:20240529T030000
DTEND;TZID=America/Los_Angeles:20240601T030001
LOCATION:Bellagio Hotel & Casino\, Las Vegas\, NV 89109 US
SUMMARY:Institute for Functional Medicine Annual Conference
END:VEVENT
END:VCALENDAR
