BEGIN:VCALENDAR
VERSION:2.0
PRODID:-//cornerstonecollaboration.org//NONSGML kigkonsult.se iCalcreator 2
 .30.10//
CALSCALE:GREGORIAN
METHOD:PUBLISH
UID:12f60bfb-6af7-44d5-a103-3955301d7d92
X-WR-CALDESC:
X-WR-RELCALID:ef46c891b69136093c9a181561204fb5
X-WR-TIMEZONE:America/Los_Angeles
BEGIN:VTIMEZONE
TZID:America/Los_Angeles
BEGIN:STANDARD
TZNAME:PST
DTSTART:20231105T020000
TZOFFSETFROM:-0700
TZOFFSETTO:-0800
RDATE:20241103T020000
RDATE:20251102T020000
END:STANDARD
BEGIN:DAYLIGHT
TZNAME:PDT
DTSTART:20240310T020000
TZOFFSETFROM:-0800
TZOFFSETTO:-0700
RDATE:20250309T020000
RDATE:20260308T020000
END:DAYLIGHT
END:VTIMEZONE
BEGIN:VEVENT
UID:386a19bc-1c73-498f-b860-ce388c6545aa
DTSTAMP:20260421T093629Z
DESCRIPTION:
DTSTART;TZID=America/Los_Angeles:20241024T030000
DTEND;TZID=America/Los_Angeles:20241027T030001
LOCATION:Paradise Point Resort & Spa\, 1404 Vacation Rd\, Sand Diego\, CA 9
 2109 US
SUMMARY:Whole Health Conference
END:VEVENT
END:VCALENDAR
